BEGIN:VCALENDAR
VERSION:2.0
PRODID:SchoolNow
CALSCALE:GREGORIAN
BEGIN:VEVENT
UID:2cbf3cc2-f019-11f0-b4d5-0a58a9feac02
DTSTAMP:20260423T215114Z
SUMMARY:Stecher and Associates
LOCATION:Room 109
URL;VALUE=URI:https://www.rak12.org/calendar/8835317/stecher-and-associates
DTSTART:20260131T130000Z
DTEND:20260131T210000Z
END:VEVENT
END:VCALENDAR
