BEGIN:VCALENDAR
VERSION:2.0
PRODID:SchoolNow
CALSCALE:GREGORIAN
BEGIN:VEVENT
UID:2cbf3df8-f019-11f0-a717-0a58a9feac02
DTSTAMP:20260423T215115Z
SUMMARY:Stecher and Associates
LOCATION:Room 109
URL;VALUE=URI:https://www.rak12.org/calendar/8835318/stecher-and-associates
DTSTART:20260208T130000Z
DTEND:20260208T210000Z
END:VEVENT
END:VCALENDAR
