BEGIN:VCALENDAR
VERSION:2.0
PRODID:SchoolNow
CALSCALE:GREGORIAN
BEGIN:VEVENT
UID:2cbf406e-f019-11f0-ac22-0a58a9feac02
DTSTAMP:20260423T215114Z
SUMMARY:Stecher and Associates
LOCATION:Room 109
URL;VALUE=URI:https://www.rak12.org/calendar/8835320/stecher-and-associates
DTSTART:20260222T130000Z
DTEND:20260222T210000Z
END:VEVENT
END:VCALENDAR
