BEGIN:VCALENDAR
VERSION:2.0
PRODID:SchoolNow
CALSCALE:GREGORIAN
BEGIN:VEVENT
UID:117e17ca-f24a-11f0-b4e2-0a58a9feac02
DTSTAMP:20260423T215114Z
SUMMARY:PMEA District 12
LOCATION:Tredyffrin/Easttown Middle School\, 801 Conestoga Rd\, Berwyn\, PA
  19312\, USA
URL;VALUE=URI:https://www.rak12.org/calendar/8836790/pmea-district-12
DTSTART;VALUE=DATE:20260217
DTEND;VALUE=DATE:20260218
END:VEVENT
END:VCALENDAR
