BEGIN:VCALENDAR
VERSION:2.0
PRODID:SchoolNow
CALSCALE:GREGORIAN
BEGIN:VEVENT
UID:117b37b8-f316-11f0-b953-0ea84fa22c4b
DTSTAMP:20260423T215114Z
SUMMARY:Board Development Committee
URL;VALUE=URI:https://www.rak12.org/calendar/8837301/board-development-comm
 ittee
DTSTART:20260120T203000Z
DTEND:20260120T213000Z
ATTACH;FILENAME=01.20.2026 Board Development Committee Meeting Agenda;FMTTY
 PE=application/octet-stream:https://drive.google.com/open?id=1y3WzLO4sorNI
 QPO4phF13pMR6JoFgpPXaitFJ6JLcbs
ATTACH;FILENAME=12.16.2025 Board Development Committee Meeting Agenda;FMTTY
 PE=application/octet-stream:https://drive.google.com/open?id=1ULgQEdAm93Ub
 JTSfndNfVB3jys4whfoGDFnORmTTt8A
END:VEVENT
END:VCALENDAR
