BEGIN:VCALENDAR
VERSION:2.0
PRODID:SchoolNow
CALSCALE:GREGORIAN
BEGIN:VEVENT
UID:d8bd32bc-f678-11f0-886d-0a58a9feac02
DTSTAMP:20260423T215114Z
SUMMARY:PAOSA Orff Workshop
LOCATION:1-2 Center
URL;VALUE=URI:https://www.rak12.org/calendar/8838600/paosa-orff-workshop
DTSTART:20260321T111500Z
DTEND:20260321T184500Z
END:VEVENT
END:VCALENDAR
