BEGIN:VCALENDAR
VERSION:2.0
PRODID:SchoolNow
CALSCALE:GREGORIAN
BEGIN:VEVENT
UID:d8dc5430-f678-11f0-8af6-0a58a9feac02
DTSTAMP:20260423T215114Z
SUMMARY:PAOSA Orff Workshop
LOCATION:1-2 Center
URL;VALUE=URI:https://www.rak12.org/calendar/8838601/paosa-orff-workshop
DTSTART:20260221T121500Z
DTEND:20260221T194500Z
END:VEVENT
END:VCALENDAR
