BEGIN:VCALENDAR
VERSION:2.0
PRODID:SchoolNow
CALSCALE:GREGORIAN
BEGIN:VEVENT
UID:d8f0922e-f678-11f0-9036-0a58a9feac02
DTSTAMP:20260423T215114Z
SUMMARY:PAOSA Orff Workshop
LOCATION:1-2 Center
URL;VALUE=URI:https://www.rak12.org/calendar/8838603/paosa-orff-workshop
DTSTART:20260425T111500Z
DTEND:20260425T184500Z
END:VEVENT
END:VCALENDAR
