BEGIN:VCALENDAR
VERSION:2.0
PRODID:SchoolNow
CALSCALE:GREGORIAN
BEGIN:VEVENT
UID:a662f0ca-fada-11f0-9a18-0a58a9feac02
DTSTAMP:20260423T215114Z
SUMMARY:High School House Team Meeting
LOCATION:US Gym
URL;VALUE=URI:https://www.rak12.org/calendar/8840724/high-school-house-team
 -meeting
DTSTART:20260219T130000Z
DTEND:20260219T133000Z
END:VEVENT
END:VCALENDAR
