BEGIN:VCALENDAR
VERSION:2.0
PRODID:SchoolNow
CALSCALE:GREGORIAN
BEGIN:VEVENT
UID:75d1e8d8-fe3d-11f0-ac11-02ceca2a3571
DTSTAMP:20260423T215114Z
SUMMARY:Day of No Silence
URL;VALUE=URI:https://www.rak12.org/calendar/8847293/day-of-no-silence
DTSTART;VALUE=DATE:20260417
DTEND;VALUE=DATE:20260418
END:VEVENT
END:VCALENDAR
