BEGIN:VCALENDAR
VERSION:2.0
PRODID:SchoolNow
CALSCALE:GREGORIAN
BEGIN:VEVENT
UID:46e8b8a6-01a0-11f1-b5ad-0affe04ea97d
DTSTAMP:20260423T215114Z
SUMMARY:Tri County High School Art Show
LOCATION:101 College Dr\, Pottstown\, PA 19464\, USA
URL;VALUE=URI:https://www.rak12.org/calendar/8849253/tri-county-high-school
 -art-show
DTSTART:20260210T220000Z
DTEND:20260211T000000Z
END:VEVENT
END:VCALENDAR
