BEGIN:VCALENDAR
VERSION:2.0
PRODID:SchoolNow
CALSCALE:GREGORIAN
BEGIN:VEVENT
UID:462972c4-01d3-11f1-ac8f-023242e94369
DTSTAMP:20260423T215115Z
SUMMARY:Prisco Out PD
URL;VALUE=URI:https://www.rak12.org/calendar/8849296/prisco-out-pd
DTSTART:20260205T180000Z
DTEND:20260205T200000Z
END:VEVENT
END:VCALENDAR
