BEGIN:VCALENDAR
VERSION:2.0
PRODID:SchoolNow
CALSCALE:GREGORIAN
BEGIN:VEVENT
UID:42a20cf0-0206-11f1-ac14-0afff8ad8631
DTSTAMP:20260423T215114Z
SUMMARY:FSO Meeting
URL;VALUE=URI:https://www.rak12.org/calendar/8849655/fso-meeting
DTSTART:20260304T013000Z
DTEND:20260304T023000Z
END:VEVENT
END:VCALENDAR
