BEGIN:VCALENDAR
VERSION:2.0
PRODID:SchoolNow
CALSCALE:GREGORIAN
BEGIN:VEVENT
UID:42d57e3c-0206-11f1-9ac1-0afff8ad8631
DTSTAMP:20260423T215114Z
SUMMARY:Girls Who Code -  3rd and 4th Grade
LOCATION:Room 12
URL;VALUE=URI:https://www.rak12.org/calendar/8849667/girls-who-code-3rd-and
 -4th-grade
DTSTART:20260401T160000Z
DTEND:20260401T163000Z
END:VEVENT
END:VCALENDAR
