BEGIN:VCALENDAR
VERSION:2.0
PRODID:SchoolNow
CALSCALE:GREGORIAN
BEGIN:VEVENT
UID:4fdcaf0a-0239-11f1-8f9e-0a58a9feac02
DTSTAMP:20260423T215114Z
SUMMARY:Public Board Meeting - Contract Vote
URL;VALUE=URI:https://www.rak12.org/calendar/8849848/public-board-meeting-c
 ontract-vote
DTSTART:20260206T180000Z
DTEND:20260206T182500Z
ATTACH;FILENAME=06Feb26 Board Agenda.pdf;FMTTYPE=application/pdf:https://dr
 ive.google.com/open?id=1wlPeY6RkZT0tF15Nb8LIFaicegizYlvo
END:VEVENT
END:VCALENDAR
