BEGIN:VCALENDAR
VERSION:2.0
PRODID:SchoolNow
CALSCALE:GREGORIAN
BEGIN:VEVENT
UID:754a8db4-037b-11f1-bba9-0265c6959b27
DTSTAMP:20260423T173508Z
SUMMARY:Varsity Girls Softball  Practice (Practice)
LOCATION:Fillmore Street and Franklin Avenue Phoenixville\, PA 19460
URL;VALUE=URI:https://www.rak12.org/calendar/8850464/varsity-girls-softball
 -practice-practice
DTSTART:20260430T193000Z
DTEND:20260430T203000Z
END:VEVENT
END:VCALENDAR
