BEGIN:VCALENDAR
VERSION:2.0
PRODID:SchoolNow
CALSCALE:GREGORIAN
BEGIN:VEVENT
UID:754a8f08-037b-11f1-b00e-0265c6959b27
DTSTAMP:20260423T173508Z
SUMMARY:Middle School Girls Softball vs Delaware County Christian School
LOCATION:Fillmore Street and Franklin Avenue Phoenixville\, PA 19460
URL;VALUE=URI:https://www.rak12.org/calendar/8850465/middle-school-girls-so
 ftball-vs-delaware-county-christian-school
DTSTART:20260414T194500Z
DTEND:20260414T204500Z
END:VEVENT
END:VCALENDAR
