BEGIN:VCALENDAR
VERSION:2.0
PRODID:SchoolNow
CALSCALE:GREGORIAN
BEGIN:VEVENT
UID:754a91f6-037b-11f1-b80b-0265c6959b27
DTSTAMP:20260423T234008Z
SUMMARY:Varsity Boys Soccer  Preseason Open Gym (Practice)
URL;VALUE=URI:https://www.rak12.org/calendar/8850468/varsity-boys-soccer-pr
 eseason-open-gym-practice
DTSTART:20260330T193000Z
DTEND:20260330T203000Z
END:VEVENT
END:VCALENDAR
