BEGIN:VCALENDAR
VERSION:2.0
PRODID:SchoolNow
CALSCALE:GREGORIAN
BEGIN:VEVENT
UID:754a93c2-037b-11f1-80ec-0265c6959b27
DTSTAMP:20260423T173508Z
SUMMARY:Varsity Boys Track & Field @ BAL Relay Meet
URL;VALUE=URI:https://www.rak12.org/calendar/8850470/varsity-boys-track-fie
 ld-bal-relay-meet
DTSTART:20260417T194500Z
DTEND:20260417T204500Z
END:VEVENT
END:VCALENDAR
