BEGIN:VCALENDAR
VERSION:2.0
PRODID:SchoolNow
CALSCALE:GREGORIAN
BEGIN:VEVENT
UID:754a95d4-037b-11f1-9726-0265c6959b27
DTSTAMP:20260423T234007Z
SUMMARY:Middle School Girls Softball vs Collegium Charter School (Exton)
LOCATION:Fillmore Street and Franklin Avenue Phoenixville\, PA 19460
URL;VALUE=URI:https://www.rak12.org/calendar/8850472/middle-school-girls-so
 ftball-vs-collegium-charter-school-exton
DTSTART:20260331T194500Z
DTEND:20260331T204500Z
END:VEVENT
END:VCALENDAR
