BEGIN:VCALENDAR
VERSION:2.0
PRODID:SchoolNow
CALSCALE:GREGORIAN
BEGIN:VEVENT
UID:754a97fa-037b-11f1-b362-0265c6959b27
DTSTAMP:20260423T234008Z
SUMMARY:Varsity Boys Baseball  Practice (Practice)
URL;VALUE=URI:https://www.rak12.org/calendar/8850474/varsity-boys-baseball-
 practice-practice
DTSTART:20260505T193000Z
DTEND:20260505T203000Z
END:VEVENT
END:VCALENDAR
