BEGIN:VCALENDAR
VERSION:2.0
PRODID:SchoolNow
CALSCALE:GREGORIAN
BEGIN:VEVENT
UID:754aa3a8-037b-11f1-8bd7-0265c6959b27
DTSTAMP:20260423T173508Z
SUMMARY:Middle School Boys Baseball  Practice (Practice)
URL;VALUE=URI:https://www.rak12.org/calendar/8850486/middle-school-boys-bas
 eball-practice-practice
DTSTART:20260402T193000Z
DTEND:20260402T203000Z
END:VEVENT
END:VCALENDAR
