BEGIN:VCALENDAR
VERSION:2.0
PRODID:SchoolNow
CALSCALE:GREGORIAN
BEGIN:VEVENT
UID:754aa754-037b-11f1-9a05-0265c6959b27
DTSTAMP:20260423T234008Z
SUMMARY:Varsity Boys Track & Field @ Tom Putera Invitational
LOCATION:1000 Forty Foot Road Lansdale\, PA 19446
URL;VALUE=URI:https://www.rak12.org/calendar/8850490/varsity-boys-track-fie
 ld-tom-putera-invitational
DTSTART:20260328T150000Z
DTEND:20260328T160000Z
END:VEVENT
END:VCALENDAR
