BEGIN:VCALENDAR
VERSION:2.0
PRODID:SchoolNow
CALSCALE:GREGORIAN
BEGIN:VEVENT
UID:754aa844-037b-11f1-8cb7-0265c6959b27
DTSTAMP:20260423T173508Z
SUMMARY:Varsity Boys Soccer  Preseason Open Gym (Practice)
URL;VALUE=URI:https://www.rak12.org/calendar/8850491/varsity-boys-soccer-pr
 eseason-open-gym-practice
DTSTART:20260413T193000Z
DTEND:20260413T203000Z
END:VEVENT
END:VCALENDAR
