BEGIN:VCALENDAR
VERSION:2.0
PRODID:SchoolNow
CALSCALE:GREGORIAN
BEGIN:VEVENT
UID:754aac2c-037b-11f1-a4f9-0265c6959b27
DTSTAMP:20260423T173508Z
SUMMARY:Varsity Boys Baseball  Practice (Practice)
URL;VALUE=URI:https://www.rak12.org/calendar/8850495/varsity-boys-baseball-
 practice-practice
DTSTART:20260424T193000Z
DTEND:20260424T203000Z
END:VEVENT
END:VCALENDAR
