BEGIN:VCALENDAR
VERSION:2.0
PRODID:SchoolNow
CALSCALE:GREGORIAN
BEGIN:VEVENT
UID:754ab38e-037b-11f1-a256-0265c6959b27
DTSTAMP:20260423T173508Z
SUMMARY:Middle School Girls Softball  Practice (Practice)
URL;VALUE=URI:https://www.rak12.org/calendar/8850503/middle-school-girls-so
 ftball-practice-practice
DTSTART:20260413T193000Z
DTEND:20260413T203000Z
END:VEVENT
END:VCALENDAR
