BEGIN:VCALENDAR
VERSION:2.0
PRODID:SchoolNow
CALSCALE:GREGORIAN
BEGIN:VEVENT
UID:754aba28-037b-11f1-b891-0265c6959b27
DTSTAMP:20260423T234008Z
SUMMARY:Middle School Girls Softball vs Plumstead Christian School
LOCATION:Fillmore Street and Franklin Avenue Phoenixville\, PA 19460
URL;VALUE=URI:https://www.rak12.org/calendar/8850510/middle-school-girls-so
 ftball-vs-plumstead-christian-school
DTSTART:20260416T194500Z
DTEND:20260416T204500Z
END:VEVENT
END:VCALENDAR
