BEGIN:VCALENDAR
VERSION:2.0
PRODID:SchoolNow
CALSCALE:GREGORIAN
BEGIN:VEVENT
UID:754abee2-037b-11f1-a39b-0265c6959b27
DTSTAMP:20260423T234008Z
SUMMARY:Middle School Girls Softball  (Practice)
LOCATION:Fillmore Street and Franklin Avenue Phoenixville\, PA 19460
URL;VALUE=URI:https://www.rak12.org/calendar/8850515/middle-school-girls-so
 ftball-practice
DTSTART:20260325T193000Z
DTEND:20260325T203000Z
END:VEVENT
END:VCALENDAR
