BEGIN:VCALENDAR
VERSION:2.0
PRODID:SchoolNow
CALSCALE:GREGORIAN
BEGIN:VEVENT
UID:75ba3088-037b-11f1-8d92-0265c6959b27
DTSTAMP:20260423T234007Z
SUMMARY:Middle School Girls Softball  Practice (Practice)
URL;VALUE=URI:https://www.rak12.org/calendar/8850516/middle-school-girls-so
 ftball-practice-practice
DTSTART:20260421T193000Z
DTEND:20260421T203000Z
END:VEVENT
END:VCALENDAR
