BEGIN:VCALENDAR
VERSION:2.0
PRODID:SchoolNow
CALSCALE:GREGORIAN
BEGIN:VEVENT
UID:75ba586a-037b-11f1-9aa4-0265c6959b27
DTSTAMP:20260423T234008Z
SUMMARY:Middle School Boys Baseball  Practice (Practice)
URL;VALUE=URI:https://www.rak12.org/calendar/8850517/middle-school-boys-bas
 eball-practice-practice
DTSTART:20260416T193000Z
DTEND:20260416T203000Z
END:VEVENT
END:VCALENDAR
