BEGIN:VCALENDAR
VERSION:2.0
PRODID:SchoolNow
CALSCALE:GREGORIAN
BEGIN:VEVENT
UID:75ba5d92-037b-11f1-bf8a-0265c6959b27
DTSTAMP:20260423T173508Z
SUMMARY:Varsity Girls Softball  Practice (Practice)
LOCATION:Fillmore Street and Franklin Avenue Phoenixville\, PA 19460
URL;VALUE=URI:https://www.rak12.org/calendar/8850518/varsity-girls-softball
 -practice-practice
DTSTART:20260402T193000Z
DTEND:20260402T203000Z
END:VEVENT
END:VCALENDAR
