BEGIN:VCALENDAR
VERSION:2.0
PRODID:SchoolNow
CALSCALE:GREGORIAN
BEGIN:VEVENT
UID:75ba676a-037b-11f1-b62e-0265c6959b27
DTSTAMP:20260423T234008Z
SUMMARY:Varsity Boys Baseball  Practice (Practice)
URL;VALUE=URI:https://www.rak12.org/calendar/8850525/varsity-boys-baseball-
 practice-practice
DTSTART:20260413T193000Z
DTEND:20260413T203000Z
END:VEVENT
END:VCALENDAR
