BEGIN:VCALENDAR
VERSION:2.0
PRODID:SchoolNow
CALSCALE:GREGORIAN
BEGIN:VEVENT
UID:75bacfa2-037b-11f1-bf3c-0265c6959b27
DTSTAMP:20260423T234008Z
SUMMARY:Middle School Boys Baseball  Practice (Practice)
URL;VALUE=URI:https://www.rak12.org/calendar/8850527/middle-school-boys-bas
 eball-practice-practice
DTSTART:20260427T193000Z
DTEND:20260427T203000Z
END:VEVENT
END:VCALENDAR
