BEGIN:VCALENDAR
VERSION:2.0
PRODID:SchoolNow
CALSCALE:GREGORIAN
BEGIN:VEVENT
UID:75bad254-037b-11f1-a266-0265c6959b27
DTSTAMP:20260423T173508Z
SUMMARY:Middle School Boys Baseball vs Jenkintown MS/HS
LOCATION:771 Wheatland Street Phoenixville\, PA 19460
URL;VALUE=URI:https://www.rak12.org/calendar/8850529/middle-school-boys-bas
 eball-vs-jenkintown-ms-hs
DTSTART:20260417T191500Z
DTEND:20260417T201500Z
END:VEVENT
END:VCALENDAR
