BEGIN:VCALENDAR
VERSION:2.0
PRODID:SchoolNow
CALSCALE:GREGORIAN
BEGIN:VEVENT
UID:75badbb4-037b-11f1-8596-0265c6959b27
DTSTAMP:20260423T173508Z
SUMMARY:CANCELLED: Varsity Girls Softball  Practice (Practice)
LOCATION:Fillmore Street and Franklin Avenue Phoenixville\, PA 19460
URL;VALUE=URI:https://www.rak12.org/calendar/8850537/cancelled-varsity-girl
 s-softball-practice-practice
DTSTART:20260403T193000Z
DTEND:20260403T203000Z
END:VEVENT
END:VCALENDAR
