BEGIN:VCALENDAR
VERSION:2.0
PRODID:SchoolNow
CALSCALE:GREGORIAN
BEGIN:VEVENT
UID:75badcb8-037b-11f1-b2ae-0265c6959b27
DTSTAMP:20260423T234008Z
SUMMARY:Middle School Girls Softball  Practice (Practice)
URL;VALUE=URI:https://www.rak12.org/calendar/8850538/middle-school-girls-so
 ftball-practice-practice
DTSTART:20260423T193000Z
DTEND:20260423T203000Z
END:VEVENT
END:VCALENDAR
