BEGIN:VCALENDAR
VERSION:2.0
PRODID:SchoolNow
CALSCALE:GREGORIAN
BEGIN:VEVENT
UID:75baddb2-037b-11f1-90da-0265c6959b27
DTSTAMP:20260423T173508Z
SUMMARY:Middle School Girls Softball vs Morrisville MS/HS
LOCATION:Fillmore Street and Franklin Avenue Phoenixville\, PA 19460
URL;VALUE=URI:https://www.rak12.org/calendar/8850539/middle-school-girls-so
 ftball-vs-morrisville-ms-hs
DTSTART:20260428T194500Z
DTEND:20260428T204500Z
END:VEVENT
END:VCALENDAR
