BEGIN:VCALENDAR
VERSION:2.0
PRODID:SchoolNow
CALSCALE:GREGORIAN
BEGIN:VEVENT
UID:75bb4248-037b-11f1-a818-0265c6959b27
DTSTAMP:20260423T234007Z
SUMMARY:CANCELLED: Varsity Boys Football  Preseaon Workouts (Practice)
LOCATION:413 Fairview Street Phoenixville\, PA 19460
URL;VALUE=URI:https://www.rak12.org/calendar/8850542/cancelled-varsity-boys
 -football-preseaon-workouts-practice
DTSTART:20260416T193000Z
DTEND:20260416T203000Z
END:VEVENT
END:VCALENDAR
