BEGIN:VCALENDAR
VERSION:2.0
PRODID:SchoolNow
CALSCALE:GREGORIAN
BEGIN:VEVENT
UID:75bb4f86-037b-11f1-b83d-0265c6959b27
DTSTAMP:20260423T173508Z
SUMMARY:Middle School Boys Baseball vs Morrisville MS/HS
LOCATION:771 Wheatland Street Phoenixville\, PA 19460
URL;VALUE=URI:https://www.rak12.org/calendar/8850551/middle-school-boys-bas
 eball-vs-morrisville-ms-hs
DTSTART:20260421T191500Z
DTEND:20260421T201500Z
END:VEVENT
END:VCALENDAR
