BEGIN:VCALENDAR
VERSION:2.0
PRODID:SchoolNow
CALSCALE:GREGORIAN
BEGIN:VEVENT
UID:75bb5bc0-037b-11f1-9820-0265c6959b27
DTSTAMP:20260423T234007Z
SUMMARY:POSTPONED: Middle School Boys Baseball vs Calvary Christian Academy
LOCATION:771 Wheatland Street Phoenixville\, PA 19460
URL;VALUE=URI:https://www.rak12.org/calendar/8850562/postponed-middle-schoo
 l-boys-baseball-vs-calvary-christian-academy
DTSTART:20260325T191500Z
DTEND:20260325T201500Z
END:VEVENT
END:VCALENDAR
