BEGIN:VCALENDAR
VERSION:2.0
PRODID:SchoolNow
CALSCALE:GREGORIAN
BEGIN:VEVENT
UID:75f55ed8-037b-11f1-94ff-0265c6959b27
DTSTAMP:20260423T234008Z
SUMMARY:CANCELLED: Varsity Boys Baseball  Practice (Practice)
URL;VALUE=URI:https://www.rak12.org/calendar/8850566/cancelled-varsity-boys
 -baseball-practice-practice
DTSTART:20260417T193000Z
DTEND:20260417T203000Z
END:VEVENT
END:VCALENDAR
