BEGIN:VCALENDAR
VERSION:2.0
PRODID:SchoolNow
CALSCALE:GREGORIAN
BEGIN:VEVENT
UID:75f563f6-037b-11f1-9ce8-0265c6959b27
DTSTAMP:20260423T173508Z
SUMMARY:Varsity Boys Football  Preseaon Workouts (Practice)
LOCATION:413 Fairview Street Phoenixville\, PA 19460
URL;VALUE=URI:https://www.rak12.org/calendar/8850571/varsity-boys-football-
 preseaon-workouts-practice
DTSTART:20260414T193000Z
DTEND:20260414T203000Z
END:VEVENT
END:VCALENDAR
