BEGIN:VCALENDAR
VERSION:2.0
PRODID:SchoolNow
CALSCALE:GREGORIAN
BEGIN:VEVENT
UID:75f574ae-037b-11f1-9576-0265c6959b27
DTSTAMP:20260423T173509Z
SUMMARY:Middle School Girls Softball  Practice (Practice)
URL;VALUE=URI:https://www.rak12.org/calendar/8850573/middle-school-girls-so
 ftball-practice-practice
DTSTART:20260417T193000Z
DTEND:20260417T203000Z
END:VEVENT
END:VCALENDAR
