BEGIN:VCALENDAR
VERSION:2.0
PRODID:SchoolNow
CALSCALE:GREGORIAN
BEGIN:VEVENT
UID:75f578be-037b-11f1-945f-0265c6959b27
DTSTAMP:20260423T234008Z
SUMMARY:Varsity Girls Track & Field @ District 1 2A Championships
URL;VALUE=URI:https://www.rak12.org/calendar/8850576/varsity-girls-track-fi
 eld-district-1-2a-championships
DTSTART:20260516T130000Z
DTEND:20260516T140000Z
END:VEVENT
END:VCALENDAR
