BEGIN:VCALENDAR
VERSION:2.0
PRODID:SchoolNow
CALSCALE:GREGORIAN
BEGIN:VEVENT
UID:75f57a12-037b-11f1-8f15-0265c6959b27
DTSTAMP:20260423T234007Z
SUMMARY:POSTPONED: Middle School Girls Softball @ Morrisville MS/HS
LOCATION:97 n Delmorr Ave Morrisville\, PA 19067
URL;VALUE=URI:https://www.rak12.org/calendar/8850577/postponed-middle-schoo
 l-girls-softball-morrisville-ms-hs
DTSTART:20260324T194500Z
DTEND:20260324T204500Z
END:VEVENT
END:VCALENDAR
