BEGIN:VCALENDAR
VERSION:2.0
PRODID:SchoolNow
CALSCALE:GREGORIAN
BEGIN:VEVENT
UID:75f57d8c-037b-11f1-9def-0265c6959b27
DTSTAMP:20260423T173509Z
SUMMARY:Middle School Girls Softball @ Calvary Christian Academy
LOCATION:1400 Southhampton Road Philadelphia\, PA 19116
URL;VALUE=URI:https://www.rak12.org/calendar/8850580/middle-school-girls-so
 ftball-calvary-christian-academy
DTSTART:20260420T193000Z
DTEND:20260420T203000Z
END:VEVENT
END:VCALENDAR
