BEGIN:VCALENDAR
VERSION:2.0
PRODID:SchoolNow
CALSCALE:GREGORIAN
BEGIN:VEVENT
UID:75f57fc6-037b-11f1-ade0-0265c6959b27
DTSTAMP:20260423T173509Z
SUMMARY:Varsity Girls Track & Field @ Dock Distance Night
URL;VALUE=URI:https://www.rak12.org/calendar/8850582/varsity-girls-track-fi
 eld-dock-distance-night
DTSTART:20260421T223000Z
DTEND:20260421T233000Z
END:VEVENT
END:VCALENDAR
