BEGIN:VCALENDAR
VERSION:2.0
PRODID:SchoolNow
CALSCALE:GREGORIAN
BEGIN:VEVENT
UID:75f5885e-037b-11f1-a644-0265c6959b27
DTSTAMP:20260423T234007Z
SUMMARY:Varsity Boys Track & Field @ District 1 2A Championships
LOCATION:1445 E Lincoln Hwy Coatesville\, PA
URL;VALUE=URI:https://www.rak12.org/calendar/8850590/varsity-boys-track-fie
 ld-district-1-2a-championships
DTSTART:20260515T130000Z
DTEND:20260515T140000Z
END:VEVENT
END:VCALENDAR
