BEGIN:VCALENDAR
VERSION:2.0
PRODID:SchoolNow
CALSCALE:GREGORIAN
BEGIN:VEVENT
UID:75f58944-037b-11f1-bb61-0265c6959b27
DTSTAMP:20260423T234007Z
SUMMARY:CANCELLED: Varsity Boys Baseball  Practice (Practice)
URL;VALUE=URI:https://www.rak12.org/calendar/8850591/cancelled-varsity-boys
 -baseball-practice-practice
DTSTART:20260327T193000Z
DTEND:20260327T203000Z
END:VEVENT
END:VCALENDAR
