BEGIN:VCALENDAR
VERSION:2.0
PRODID:SchoolNow
CALSCALE:GREGORIAN
BEGIN:VEVENT
UID:75f58fca-037b-11f1-84b8-0265c6959b27
DTSTAMP:20260423T173508Z
SUMMARY:CANCELLED: Varsity Boys Baseball  Practice (Practice)
LOCATION:771 Wheatland Street Phoenixville\, PA 19460
URL;VALUE=URI:https://www.rak12.org/calendar/8850594/cancelled-varsity-boys
 -baseball-practice-practice
DTSTART:20260403T193000Z
DTEND:20260403T203000Z
END:VEVENT
END:VCALENDAR
